BEGIN:VCALENDAR
VERSION:2.0
PRODID:-//hacksw/handcal//NONSGML v1.0//EN
CALSCALE:GREGORIAN
BEGIN:VEVENT
ORGANIZER;CN=Installed Building Products, Inc.:MAILTO:no-reply@mail.gcs-web.com
DTEND:
UID:952bfb91-b86a-4999-98f2-ce6689c5ba36
DTSTAMP:1777129734
LOCATION:https://viavid.webcasts.com/starthere.jsp?ei=1754944&tp_key=523be9ad41
DESCRIPTION:Event Details https://investors.installedbuildingproducts.com/events/event-details/fiscal-2026-first-quarter-conference-call\n\nWebcast: https://viavid.webcasts.com/starthere.jsp?ei=1754944&tp_key=523be9ad41
URL;VALUE=URI:https://viavid.webcasts.com/starthere.jsp?ei=1754944&tp_key=523be9ad41
SUMMARY:Installed Building Products, Inc. - Fiscal 2026 First Quarter Conference Call
DTSTART:20260507T140000Z
END:VEVENT
END:VCALENDAR